BEGIN:VCALENDAR
VERSION:2.0
PRODID:-//Everything Greyt - ECPv6.15.20//NONSGML v1.0//EN
CALSCALE:GREGORIAN
METHOD:PUBLISH
X-WR-CALNAME:Everything Greyt
X-ORIGINAL-URL:http://everythinggreyt.com
X-WR-CALDESC:Events for Everything Greyt
REFRESH-INTERVAL;VALUE=DURATION:PT1H
X-Robots-Tag:noindex
X-PUBLISHED-TTL:PT1H
BEGIN:VTIMEZONE
TZID:UTC
BEGIN:STANDARD
TZOFFSETFROM:+0000
TZOFFSETTO:+0000
TZNAME:UTC
DTSTART:20150101T000000
END:STANDARD
END:VTIMEZONE
BEGIN:VEVENT
DTSTART;TZID=UTC:20170311T110000
DTEND;TZID=UTC:20170311T140000
DTSTAMP:20260423T184419
CREATED:20170222T224323Z
LAST-MODIFIED:20170310T175705Z
UID:539-1489230000-1489240800@everythinggreyt.com
SUMMARY:Treats Unleashed O’Fallon Meet & Greet
DESCRIPTION:
URL:http://everythinggreyt.com/event/treats-unleashed-meet-greet/
LOCATION:Treats Unleashed – O’Fallon\, 2520 Hwy K\, O'Fallon\, MO\, United States
END:VEVENT
BEGIN:VEVENT
DTSTART;TZID=UTC:20170115T110000
DTEND;TZID=UTC:20170115T140000
DTSTAMP:20260423T184419
CREATED:20161229T213058Z
LAST-MODIFIED:20161229T213124Z
UID:507-1484478000-1484488800@everythinggreyt.com
SUMMARY:Meet and Greet
DESCRIPTION:
URL:http://everythinggreyt.com/event/meet-and-greet-3/
LOCATION:Treats Unleashed – Chesterfield\, 1677 Clarkson Road\, Chesterfield\, MO\, 63017\, United States
END:VEVENT
BEGIN:VEVENT
DTSTART;TZID=UTC:20161202T180000
DTEND;TZID=UTC:20161202T210000
DTSTAMP:20260423T184419
CREATED:20161114T224911Z
LAST-MODIFIED:20161114T225115Z
UID:490-1480701600-1480712400@everythinggreyt.com
SUMMARY:Maplewood 15th Annual Christmas Tree Walk
DESCRIPTION:
URL:http://everythinggreyt.com/event/maplewood-15th-annual-christmas-tree-walk/
LOCATION:Airedale Antics\, 7316 Manchester Rd\, Maplewood\, MO\, 63143\, United States
END:VEVENT
BEGIN:VEVENT
DTSTART;TZID=UTC:20161113T100000
DTEND;TZID=UTC:20161113T130000
DTSTAMP:20260423T184419
CREATED:20161102T200025Z
LAST-MODIFIED:20161102T200332Z
UID:475-1479031200-1479042000@everythinggreyt.com
SUMMARY:Meet & Greet @ Treats Unleashed
DESCRIPTION:GRAND OPENING EVENT!!
URL:http://everythinggreyt.com/event/meet-greet-treats-unleashed/
LOCATION:Treats Unleashed _Richmond Hts\, 1620 S Hanley Rd.\, Richmond Heights\, MO\, United States
END:VEVENT
BEGIN:VEVENT
DTSTART;TZID=UTC:20161112T100000
DTEND;TZID=UTC:20161112T130000
DTSTAMP:20260423T184419
CREATED:20161102T195907Z
LAST-MODIFIED:20161102T200252Z
UID:472-1478944800-1478955600@everythinggreyt.com
SUMMARY:Meet and Greet @ Treats Unleashed
DESCRIPTION:GRAND OPENING EVENT!!
URL:http://everythinggreyt.com/event/meet-and-greet-treats-unleashed/
LOCATION:Treats Unleashed – O’Fallon\, 2520 Hwy K\, O'Fallon\, MO\, United States
END:VEVENT
BEGIN:VEVENT
DTSTART;TZID=UTC:20161002T120000
DTEND;TZID=UTC:20161002T170000
DTSTAMP:20260423T184419
CREATED:20160510T204904Z
LAST-MODIFIED:20160510T205032Z
UID:318-1475409600-1475427600@everythinggreyt.com
SUMMARY:Gateway Greyhound Gathering
DESCRIPTION:
URL:http://everythinggreyt.com/event/gateway-greyhound-gathering/
LOCATION:Sylvan Springs County Park\, St. Louis\, MO\, 63125\, United States
END:VEVENT
BEGIN:VEVENT
DTSTART;TZID=UTC:20160918T113000
DTEND;TZID=UTC:20160918T130000
DTSTAMP:20260423T184419
CREATED:20160906T223349Z
LAST-MODIFIED:20160906T223349Z
UID:422-1474198200-1474203600@everythinggreyt.com
SUMMARY:PetsMart Meet & Greet
DESCRIPTION:
URL:http://everythinggreyt.com/event/petsmart-meet-greet-2/
LOCATION:PetsMart – Winchester\, 7941 Winchester Rd\, Memphis\, TN\, 38125\, United States
END:VEVENT
BEGIN:VEVENT
DTSTART;TZID=UTC:20160917T113000
DTEND;TZID=UTC:20160917T123000
DTSTAMP:20260423T184419
CREATED:20160906T223222Z
LAST-MODIFIED:20160906T223222Z
UID:418-1474111800-1474115400@everythinggreyt.com
SUMMARY:PetsMart Meet & Greet
DESCRIPTION:
URL:http://everythinggreyt.com/event/petsmart-meet-greet/
LOCATION:PetsMart – Winchester\, 7941 Winchester Rd\, Memphis\, TN\, 38125\, United States
END:VEVENT
BEGIN:VEVENT
DTSTART;TZID=UTC:20160917T110000
DTEND;TZID=UTC:20160917T140000
DTSTAMP:20260423T184419
CREATED:20160913T021227Z
LAST-MODIFIED:20160913T025158Z
UID:425-1474110000-1474120800@everythinggreyt.com
SUMMARY:Meet & Greet
DESCRIPTION:
URL:http://everythinggreyt.com/event/meet-greet-2/
LOCATION:Treats Unlimited\, 5654 Telegraph Rd\, Saint Louis\, MO\, United States
END:VEVENT
BEGIN:VEVENT
DTSTART;TZID=UTC:20160828T110000
DTEND;TZID=UTC:20160828T160000
DTSTAMP:20260423T184419
CREATED:20160816T005109Z
LAST-MODIFIED:20160816T005109Z
UID:386-1472382000-1472400000@everythinggreyt.com
SUMMARY:Petalozza
DESCRIPTION:
URL:http://everythinggreyt.com/event/petalozza/
LOCATION:Purina Event Center at Purina Farms\, Gray Summit\, MO\, United States
END:VEVENT
BEGIN:VEVENT
DTSTART;TZID=UTC:20160813T100000
DTEND;TZID=UTC:20160813T130000
DTSTAMP:20260423T184419
CREATED:20160607T170236Z
LAST-MODIFIED:20160607T171957Z
UID:343-1471082400-1471093200@everythinggreyt.com
SUMMARY:Meet & Greet
DESCRIPTION:
URL:http://everythinggreyt.com/event/meet-greet/
LOCATION:Treats Unleashed – Manchester Rd\, 13325 Manchester Rd.\, Despite Perez\, MO\, 63131\, United States
END:VEVENT
BEGIN:VEVENT
DTSTART;TZID=UTC:20160807T110000
DTEND;TZID=UTC:20160807T160000
DTSTAMP:20260423T184419
CREATED:20160804T151522Z
LAST-MODIFIED:20160804T151639Z
UID:380-1470567600-1470585600@everythinggreyt.com
SUMMARY:Memphis Pet Expo
DESCRIPTION:Memphis Pet Expo\, Memphis Agricenter\, Free admission\, Booth 302\n8/7 11 to 4
URL:http://everythinggreyt.com/event/memphis-pet-expo-2/
LOCATION:Agricenter International\, 7777 Walnut Grove Rd\,\, Memphis\, TN\, 38120\, United States
END:VEVENT
BEGIN:VEVENT
DTSTART;TZID=UTC:20160806T100000
DTEND;TZID=UTC:20160806T170000
DTSTAMP:20260423T184419
CREATED:20160804T151300Z
LAST-MODIFIED:20160804T151300Z
UID:378-1470477600-1470502800@everythinggreyt.com
SUMMARY:Memphis Pet Expo
DESCRIPTION:Memphis Pet Expo\, Memphis Agricenter\, Free admission\, Booth 302\n8/6 10 to 5\n8/7 11 to 4
URL:http://everythinggreyt.com/event/memphis-pet-expo/
LOCATION:Agricenter International\, 7777 Walnut Grove Rd\,\, Memphis\, TN\, 38120\, United States
END:VEVENT
BEGIN:VEVENT
DTSTART;TZID=UTC:20160730T110000
DTEND;TZID=UTC:20160730T150000
DTSTAMP:20260423T184419
CREATED:20160708T172033Z
LAST-MODIFIED:20160708T172908Z
UID:358-1469876400-1469890800@everythinggreyt.com
SUMMARY:Meet and Greet
DESCRIPTION:
URL:http://everythinggreyt.com/event/meet-and-greet-2/
LOCATION:Petsmart – Winchester Rd\, 7941 Winchester Rd\, Memphis\, TN\, 38125\, United States
END:VEVENT
BEGIN:VEVENT
DTSTART;TZID=UTC:20160716T100000
DTEND;TZID=UTC:20160716T130000
DTSTAMP:20260423T184419
CREATED:20160504T182844Z
LAST-MODIFIED:20160607T172030Z
UID:310-1468663200-1468674000@everythinggreyt.com
SUMMARY:Meet and Greet
DESCRIPTION:
URL:http://everythinggreyt.com/event/meet-and-greet/
LOCATION:Treats Unleashed – Manchester Rd\, 13325 Manchester Rd.\, Despite Perez\, MO\, 63131\, United States
END:VEVENT
END:VCALENDAR