BEGIN:VCALENDAR
VERSION:2.0
PRODID:-//Everything Greyt - ECPv6.15.20//NONSGML v1.0//EN
CALSCALE:GREGORIAN
METHOD:PUBLISH
X-WR-CALNAME:Everything Greyt
X-ORIGINAL-URL:http://everythinggreyt.com
X-WR-CALDESC:Events for Everything Greyt
REFRESH-INTERVAL;VALUE=DURATION:PT1H
X-Robots-Tag:noindex
X-PUBLISHED-TTL:PT1H
BEGIN:VTIMEZONE
TZID:UTC
BEGIN:STANDARD
TZOFFSETFROM:+0000
TZOFFSETTO:+0000
TZNAME:UTC
DTSTART:20160101T000000
END:STANDARD
END:VTIMEZONE
BEGIN:VEVENT
DTSTART;TZID=UTC:20180616T110000
DTEND;TZID=UTC:20180616T130000
DTSTAMP:20260423T134834
CREATED:20180514T173538Z
LAST-MODIFIED:20180514T173538Z
UID:832-1529146800-1529154000@everythinggreyt.com
SUMMARY:Treats Unleashed M&G *
DESCRIPTION: *Weather Permitting
URL:http://everythinggreyt.com/event/treats-unleashed-mg/
LOCATION:Treats Unleashed – O’Fallon\, 2520 Hwy K\, O'Fallon\, MO\, United States
END:VEVENT
BEGIN:VEVENT
DTSTART;TZID=UTC:20180609T110000
DTEND;TZID=UTC:20180609T140000
DTSTAMP:20260423T134834
CREATED:20180511T025749Z
LAST-MODIFIED:20180511T025749Z
UID:811-1528542000-1528552800@everythinggreyt.com
SUMMARY:Treats Unleashed - Des Peres M&G
DESCRIPTION:
URL:http://everythinggreyt.com/event/treats-unleashed-des-peres-mg-2/
LOCATION:Treats Unleashed Des Peres\, 13325 Manchester Road\, Des Peres\, MO\, 63131\, United States
END:VEVENT
BEGIN:VEVENT
DTSTART;TZID=UTC:20180602T120000
DTEND;TZID=UTC:20180602T150000
DTSTAMP:20260423T134834
CREATED:20180202T030324Z
LAST-MODIFIED:20180202T030324Z
UID:765-1527940800-1527951600@everythinggreyt.com
SUMMARY:Meet & Greet @ Petsmart
DESCRIPTION:First Saturday of each month.
URL:http://everythinggreyt.com/event/meet-greet-petsmart-5/
LOCATION:Petsmart – Cordova\, 1250 N Germantown Pkwy # 112 \, TN\, Cordova\, TN\, United States
END:VEVENT
BEGIN:VEVENT
DTSTART;TZID=UTC:20180602T120000
DTEND;TZID=UTC:20180602T140000
DTSTAMP:20260423T134834
CREATED:20180309T020155Z
LAST-MODIFIED:20180309T020155Z
UID:785-1527940800-1527948000@everythinggreyt.com
SUMMARY:Meet the Greyhounds @ Petsmart
DESCRIPTION:
URL:http://everythinggreyt.com/event/meet-the-greyhounds-petsmart-4/
LOCATION:Petsmart – Jeff City\, 731 Stoneridge Blvd\,\, Jefferson city\, MO\, 65109\, United States
END:VEVENT
BEGIN:VEVENT
DTSTART;TZID=UTC:20180519T120000
DTEND;TZID=UTC:20180519T140000
DTSTAMP:20260423T134834
CREATED:20180309T015235Z
LAST-MODIFIED:20180309T015235Z
UID:780-1526731200-1526738400@everythinggreyt.com
SUMMARY:Meet the Greyhounds @ Petsmart
DESCRIPTION:
URL:http://everythinggreyt.com/event/meet-the-greyhounds-petsmart-2/
LOCATION:Petsmart – Columbia\, 229 N Stadium\, Columbia\, MO\, 65203\, United States
END:VEVENT
BEGIN:VEVENT
DTSTART;TZID=UTC:20180519T110000
DTEND;TZID=UTC:20180519T140000
DTSTAMP:20260423T134834
CREATED:20180511T030006Z
LAST-MODIFIED:20180511T030006Z
UID:815-1526727600-1526738400@everythinggreyt.com
SUMMARY:Treats Unleashed - Des Peres M&G
DESCRIPTION:
URL:http://everythinggreyt.com/event/treats-unleashed-des-peres-mg-4/
LOCATION:Treats Unleashed Des Peres\, 13325 Manchester Road\, Des Peres\, MO\, 63131\, United States
END:VEVENT
BEGIN:VEVENT
DTSTART;TZID=UTC:20180519T110000
DTEND;TZID=UTC:20180519T130000
DTSTAMP:20260423T134834
CREATED:20180511T031421Z
LAST-MODIFIED:20180511T031540Z
UID:828-1526727600-1526734800@everythinggreyt.com
SUMMARY:Treats Unleashed - O'Fallon M&G
DESCRIPTION:Weather Permitting
URL:http://everythinggreyt.com/event/treats-unleashed-ofallon-mg/
LOCATION:Treats Unleashed – O’Fallon\, 2520 Hwy K\, O'Fallon\, MO\, United States
END:VEVENT
BEGIN:VEVENT
DTSTART;TZID=UTC:20180505T120000
DTEND;TZID=UTC:20180505T150000
DTSTAMP:20260423T134834
CREATED:20180202T030100Z
LAST-MODIFIED:20180202T030100Z
UID:763-1525521600-1525532400@everythinggreyt.com
SUMMARY:Meet & Greet @ Petsmart
DESCRIPTION:First Saturday of each month.
URL:http://everythinggreyt.com/event/meet-greet-petsmart-4/
LOCATION:Petsmart – Cordova\, 1250 N Germantown Pkwy # 112 \, TN\, Cordova\, TN\, United States
END:VEVENT
BEGIN:VEVENT
DTSTART;TZID=UTC:20180505T120000
DTEND;TZID=UTC:20180505T140000
DTSTAMP:20260423T134834
CREATED:20180309T015945Z
LAST-MODIFIED:20180309T015945Z
UID:782-1525521600-1525528800@everythinggreyt.com
SUMMARY:Meet the Greyhounds @ Petsmart
DESCRIPTION:
URL:http://everythinggreyt.com/event/meet-the-greyhounds-petsmart-3/
LOCATION:Petsmart – Jeff City\, 731 Stoneridge Blvd\,\, Jefferson city\, MO\, 65109\, United States
END:VEVENT
BEGIN:VEVENT
DTSTART;TZID=UTC:20180422T130000
DTEND;TZID=UTC:20180422T170000
DTSTAMP:20260423T134834
CREATED:20180412T003153Z
LAST-MODIFIED:20180412T003153Z
UID:793-1524402000-1524416400@everythinggreyt.com
SUMMARY:$5 Nail Trim Benefit
DESCRIPTION:
URL:http://everythinggreyt.com/event/5-nail-trim-benefit/
LOCATION:Airedale Antics\, 7316 Manchester Rd\, Maplewood\, MO\, 63143\, United States
END:VEVENT
BEGIN:VEVENT
DTSTART;TZID=UTC:20180421T120000
DTEND;TZID=UTC:20180421T140000
DTSTAMP:20260423T134834
CREATED:20180309T015104Z
LAST-MODIFIED:20180309T015104Z
UID:777-1524312000-1524319200@everythinggreyt.com
SUMMARY:Meet the Greyhounds @ Petsmart
DESCRIPTION:
URL:http://everythinggreyt.com/event/meet-the-greyhounds-petsmart/
LOCATION:Petsmart – Columbia\, 229 N Stadium\, Columbia\, MO\, 65203\, United States
END:VEVENT
BEGIN:VEVENT
DTSTART;TZID=UTC:20180414T120000
DTEND;TZID=UTC:20180414T160000
DTSTAMP:20260423T134834
CREATED:20180406T032310Z
LAST-MODIFIED:20180406T032310Z
UID:789-1523707200-1523721600@everythinggreyt.com
SUMMARY:Everything Greyt Annual Picnic
DESCRIPTION:
URL:http://everythinggreyt.com/event/everything-greyt-annual-picnic/
LOCATION:Deer Creek Park\, Maplewood MO\, Deer Creek Park\, Maplewood\, MO\, 63143\, United States
END:VEVENT
BEGIN:VEVENT
DTSTART;TZID=UTC:20180407T120000
DTEND;TZID=UTC:20180407T150000
DTSTAMP:20260423T134834
CREATED:20180106T194747Z
LAST-MODIFIED:20180106T194747Z
UID:742-1523102400-1523113200@everythinggreyt.com
SUMMARY:Meet & Greet PetsMart
DESCRIPTION:
URL:http://everythinggreyt.com/event/meet-greet-petsmart-3/
LOCATION:Petsmart – Cordova\, 1250 N Germantown Pkwy # 112 \, TN\, Cordova\, TN\, United States
END:VEVENT
BEGIN:VEVENT
DTSTART;TZID=UTC:20180303T120000
DTEND;TZID=UTC:20180303T150000
DTSTAMP:20260423T134834
CREATED:20180106T194639Z
LAST-MODIFIED:20180106T194639Z
UID:740-1520078400-1520089200@everythinggreyt.com
SUMMARY:Meet & Greet PetsMart
DESCRIPTION:
URL:http://everythinggreyt.com/event/meet-greet-petsmart-2/
LOCATION:Petsmart – Cordova\, 1250 N Germantown Pkwy # 112 \, TN\, Cordova\, TN\, United States
END:VEVENT
BEGIN:VEVENT
DTSTART;TZID=UTC:20180203T120000
DTEND;TZID=UTC:20180203T150000
DTSTAMP:20260423T134834
CREATED:20180106T193817Z
LAST-MODIFIED:20180106T193817Z
UID:734-1517659200-1517670000@everythinggreyt.com
SUMMARY:Meet & Greet - PetsMart
DESCRIPTION:First Saturday each month – 12-3
URL:http://everythinggreyt.com/event/meet-greet-petsmart/
LOCATION:Petsmart – Cordova\, 1250 N Germantown Pkwy # 112 \, TN\, Cordova\, TN\, United States
END:VEVENT
BEGIN:VEVENT
DTSTART;TZID=UTC:20180127T120000
DTEND;TZID=UTC:20180127T170000
DTSTAMP:20260423T134834
CREATED:20171124T175557Z
LAST-MODIFIED:20171124T175943Z
UID:705-1517054400-1517072400@everythinggreyt.com
SUMMARY:Maplewood Sweet Tooth Tour
DESCRIPTION:Tickets available at Eventbrite.  Link below.
URL:http://everythinggreyt.com/event/maplewood-sweet-tooth-tour/
LOCATION:Historic Downtown Maplewood\, 7300 Manchester\, Maplewood\, MO\, 63143\, United States
END:VEVENT
BEGIN:VEVENT
DTSTART;TZID=UTC:20180120T110000
DTEND;TZID=UTC:20180120T140000
DTSTAMP:20260423T134834
CREATED:20180106T194207Z
LAST-MODIFIED:20180106T194207Z
UID:737-1516446000-1516456800@everythinggreyt.com
SUMMARY:Meet & Greet - Oakland Hollywood Feed
DESCRIPTION:
URL:http://everythinggreyt.com/event/meet-greet-oakland-hollywood-feed/
LOCATION:hollywood feed – Oakland\, 7253 US-64 Suite 8\, Oakland\, TN\, 38060\, United States
END:VEVENT
BEGIN:VEVENT
DTSTART;TZID=UTC:20171209T110000
DTEND;TZID=UTC:20171209T140000
DTSTAMP:20260423T134834
CREATED:20170310T180804Z
LAST-MODIFIED:20170310T180841Z
UID:594-1512817200-1512828000@everythinggreyt.com
SUMMARY:Treats Unleashed Columbia Meet & Greet
DESCRIPTION:
URL:http://everythinggreyt.com/event/treats-unleashed-columbia-meet-greet-5/
LOCATION:Treats Unleashed – Columbia\, Forum Shopping Ctr\, 1400 Forum Blvd\, Columbia\, MO\, 65203\, United States
END:VEVENT
BEGIN:VEVENT
DTSTART;TZID=UTC:20171126T130000
DTEND;TZID=UTC:20171126T170000
DTSTAMP:20260423T134834
CREATED:20171119T170705Z
LAST-MODIFIED:20171119T170705Z
UID:701-1511701200-1511715600@everythinggreyt.com
SUMMARY:$5 Nail Trim
DESCRIPTION:
URL:http://everythinggreyt.com/event/5-nail-trim/
LOCATION:Airedale Antics\, 7316 Manchester Rd\, Maplewood\, MO\, 63143\, United States
END:VEVENT
BEGIN:VEVENT
DTSTART;TZID=UTC:20171104T100000
DTEND;TZID=UTC:20171104T160000
DTSTAMP:20260423T134834
CREATED:20171003T170503Z
LAST-MODIFIED:20171003T180529Z
UID:677-1509789600-1509811200@everythinggreyt.com
SUMMARY:Creekside Petacular 2017
DESCRIPTION:
URL:http://everythinggreyt.com/event/creekside-petacular-2017/
LOCATION:Creekside Pet Center\, 5820 E HWY 163\, Columbia\, MO\, 65201\, United States
END:VEVENT
BEGIN:VEVENT
DTSTART;TZID=UTC:20171021T110000
DTEND;TZID=UTC:20171021T140000
DTSTAMP:20260423T134834
CREATED:20171015T232526Z
LAST-MODIFIED:20171016T000854Z
UID:692-1508583600-1508594400@everythinggreyt.com
SUMMARY:Deer Creek Park Potluck Picnic
DESCRIPTION:
URL:http://everythinggreyt.com/event/potluck-picnic/
LOCATION:Deer Creek Park\, Maplewood MO\, Deer Creek Park\, Maplewood\, MO\, 63143\, United States
END:VEVENT
BEGIN:VEVENT
DTSTART;TZID=UTC:20171014T110000
DTEND;TZID=UTC:20171014T140000
DTSTAMP:20260423T134834
CREATED:20170310T180720Z
LAST-MODIFIED:20170310T180720Z
UID:592-1507978800-1507989600@everythinggreyt.com
SUMMARY:Treats Unleashed Columbia Meet & Greet
DESCRIPTION:
URL:http://everythinggreyt.com/event/treats-unleashed-columbia-meet-greet-4/
LOCATION:Treats Unleashed – Columbia\, Forum Shopping Ctr\, 1400 Forum Blvd\, Columbia\, MO\, 65203\, United States
END:VEVENT
BEGIN:VEVENT
DTSTART;TZID=UTC:20171014T110000
DTEND;TZID=UTC:20171014T140000
DTSTAMP:20260423T134834
CREATED:20170222T224920Z
LAST-MODIFIED:20170222T224920Z
UID:552-1507978800-1507989600@everythinggreyt.com
SUMMARY:Treats Unleashed Meet & Greet
DESCRIPTION:
URL:http://everythinggreyt.com/event/treats-unleashed-meet-greet-7/
LOCATION:Treats Unleashed – O’Fallon\, 2520 Hwy K\, O'Fallon\, MO\, United States
END:VEVENT
BEGIN:VEVENT
DTSTART;TZID=UTC:20170909T110000
DTEND;TZID=UTC:20170909T140000
DTSTAMP:20260423T134834
CREATED:20170222T224806Z
LAST-MODIFIED:20170222T225029Z
UID:549-1504954800-1504965600@everythinggreyt.com
SUMMARY:Treats Unleashed Meet & Greet
DESCRIPTION:
URL:http://everythinggreyt.com/event/treats-unleashed-meet-greet-6/
LOCATION:Treats Unleashed – O’Fallon\, 2520 Hwy K\, O'Fallon\, MO\, United States
END:VEVENT
BEGIN:VEVENT
DTSTART;TZID=UTC:20170812T110000
DTEND;TZID=UTC:20170812T140000
DTSTAMP:20260423T134834
CREATED:20170310T180636Z
LAST-MODIFIED:20170310T180636Z
UID:590-1502535600-1502546400@everythinggreyt.com
SUMMARY:Treats Unleashed Columbia Meet & Greet
DESCRIPTION:
URL:http://everythinggreyt.com/event/treats-unleashed-columbia-meet-greet-3/
LOCATION:Treats Unleashed – Columbia\, Forum Shopping Ctr\, 1400 Forum Blvd\, Columbia\, MO\, 65203\, United States
END:VEVENT
BEGIN:VEVENT
DTSTART;TZID=UTC:20170812T110000
DTEND;TZID=UTC:20170812T140000
DTSTAMP:20260423T134834
CREATED:20170222T225424Z
LAST-MODIFIED:20170222T225722Z
UID:556-1502535600-1502546400@everythinggreyt.com
SUMMARY:Treats Unleashed Chesterfield Meet & Greet
DESCRIPTION:
URL:http://everythinggreyt.com/event/treats-unleashed-meet-greet-9/
LOCATION:Treats Unleashed – Chesterfield\, 1677 Clarkson Road\, Chesterfield\, MO\, 63017\, United States
END:VEVENT
BEGIN:VEVENT
DTSTART;TZID=UTC:20170812T110000
DTEND;TZID=UTC:20170812T140000
DTSTAMP:20260423T134834
CREATED:20170222T224726Z
LAST-MODIFIED:20170222T225538Z
UID:547-1502535600-1502546400@everythinggreyt.com
SUMMARY:Treats Unleashed O’Fallon Meet & Greet
DESCRIPTION:
URL:http://everythinggreyt.com/event/treats-unleashed-meet-greet-5/
LOCATION:Treats Unleashed – O’Fallon\, 2520 Hwy K\, O'Fallon\, MO\, United States
END:VEVENT
BEGIN:VEVENT
DTSTART;TZID=UTC:20170708T110000
DTEND;TZID=UTC:20170708T140000
DTSTAMP:20260423T134834
CREATED:20170222T224630Z
LAST-MODIFIED:20170222T224630Z
UID:545-1499511600-1499522400@everythinggreyt.com
SUMMARY:Treats Unleashed Meet & Greet
DESCRIPTION:
URL:http://everythinggreyt.com/event/treats-unleashed-meet-greet-4/
LOCATION:Treats Unleashed – O’Fallon\, 2520 Hwy K\, O'Fallon\, MO\, United States
END:VEVENT
BEGIN:VEVENT
DTSTART;TZID=UTC:20170610T110000
DTEND;TZID=UTC:20170610T140000
DTSTAMP:20260423T134834
CREATED:20170501T162204Z
LAST-MODIFIED:20170501T162321Z
UID:644-1497092400-1497103200@everythinggreyt.com
SUMMARY:Meet & Greet - 1 Lucky Mutt
DESCRIPTION:
URL:http://everythinggreyt.com/event/meet-greet-6/
LOCATION:One Lucky Mutt\, 2414 Taylor Road\, Grover\, MO\, 63040\, United States
END:VEVENT
BEGIN:VEVENT
DTSTART;TZID=UTC:20170610T110000
DTEND;TZID=UTC:20170610T140000
DTSTAMP:20260423T134834
CREATED:20170310T180543Z
LAST-MODIFIED:20170310T180543Z
UID:588-1497092400-1497103200@everythinggreyt.com
SUMMARY:Treats Unleashed Columbia Meet & Greet
DESCRIPTION:
URL:http://everythinggreyt.com/event/treats-unleashed-columbia-meet-greet-2/
LOCATION:Treats Unleashed – Columbia\, Forum Shopping Ctr\, 1400 Forum Blvd\, Columbia\, MO\, 65203\, United States
END:VEVENT
END:VCALENDAR